Workbook
Name _ftn1: Sintético!#REF!
Name _ftnref1: Sintético!#REF!
Name Area: 'Gastos com Pessoal'!$E$129:$E$130
Name Benefícios: Analítico!$B$44:$B$50
Name Beneficios2: Analítico!$B$45:$B$50
Name Beneficios3: 'Gastos com Pessoal'!$BG$1:$BG$7
Name Bens: Analítico!$B$118:$B$130
Name Dropdown1: Sintético!#REF!
Name Gerais: Analítico!$B$54:$B$115
Name VinculoPT: INDIRECT(CONCATENATE("'Gastos das Atividades'!$B$5:$B$",COUNTA('Gastos das Atividades'!$B$5:$B$34)+4))

Sheet Capa
A1: Termo de Parceria celebrado entre o Instituto Estadual do Patrimônio Histórico e Artístico de Minas Gerais - IEPHA/MG e a Associação Pró-Cultura e Promoção das Artes - APPA
A3: Período Proposto
A4: 01 de janeiro de 2018 a 31 de dezembro de 2019
A7: Versão 5.2 do Modelo de Memória de Cálculo - Janeiro de 2017

Sheet Sintético
C1: =Capa!A1 -> Termo de Parceria celebrado entre o Instituto Estadual do Patrimônio Histórico e Artístico de Minas Gerais - IEPHA/MG e a Associação Pró-Cultura e Promoção das Artes - APPA
C2: Tabela 1 - Previsão Sintética de Receitas e Gastos Mensais em Regime de Competência | O2: Tabela 1 - Previsão Sintética de Receitas e Gastos Mensais em Regime de Competência | AA2: Tabela 1 - Previsão Sintética de Receitas e Gastos Mensais em Regime de Competência
C3: =Analítico!C4 -> Mês 1 | D3: =Analítico!D4 -> Mês 2 | E3: =Analítico!E4 -> Mês 3 | F3: =Analítico!F4 -> Mês 4 | G3: =Analítico!G4 -> Mês 5 | H3: =Analítico!H4 -> Mês 6 | I3: =Analítico!I4 -> Mês 7 | J3: =Analítico!J4 -> Mês 8 | ... AL3: =Analítico!AL4 -> Mês 36 | AM3: Total | AN3: % do Total
A4: SR | B4: Saldo Remanescente | C4: =Analítico!C5 -> 0 | AM4: =C4 -> 0 | AN4: =IF($C$4=0,0,C4/$AM$13) -> 0
A6: 1 | B6: Entrada de Recursos
A7: 1.1 | B7: Receitas
A8: 1.1.1 | B8: Repasses do Termo de Parceria | C8: =Analítico!C9 -> 957808.4 | D8: =Analítico!D9 -> 0 | E8: =Analítico!E9 -> 0 | F8: =Analítico!F9 -> 0 | G8: =Analítico!G9 -> 473861.13 | H8: =Analítico!H9 -> 0 | I8: =Analítico!I9 -> 0 | J8: =Analítico!J9 -> 422750.02 | ... AL8: =Analítico!AL9 -> 0 | AM8: =SUM(C8:AL8) -> 3839002.2 | AN8: =IF($AM$13=0,0,AM8/$AM$13) -> 1
A9: 1.1.2 | B9: Receita Arrecadada em Função do TP | C9: =Analítico!C10 -> 0 | D9: =Analítico!D10 -> 0 | E9: =Analítico!E10 -> 0 | F9: =Analítico!F10 -> 0 | G9: =Analítico!G10 -> 0 | H9: =Analítico!H10 -> 0 | I9: =Analítico!I10 -> 0 | J9: =Analítico!J10 -> 0 | ... AL9: =Analítico!AL10 -> 0 | AM9: =SUM(C9:AL9) -> 0 | AN9: =IF($AM$13=0,0,AM9/$AM$13) -> 0
A10: 1.1.3 | B10: Outras Receitas | C10: =Analítico!C11 -> 0 | D10: =Analítico!D11 -> 0 | E10: =Analítico!E11 -> 0 | F10: =Analítico!F11 -> 0 | G10: =Analítico!G11 -> 0 | H10: =Analítico!H11 -> 0 | I10: =Analítico!I11 -> 0 | J10: =Analítico!J11 -> 0 | ... AL10: =Analítico!AL11 -> 0 | AM10: =SUM(C10:AL10) -> 0 | AN10: =IF($AM$13=0,0,AM10/$AM$13) -> 0
A11: 1.2 | B11: Rendimentos de Aplicações Fin. | C11: =Analítico!C12 -> 0 | D11: =Analítico!D12 -> 0 | E11: =Analítico!E12 -> 0 | F11: =Analítico!F12 -> 0 | G11: =Analítico!G12 -> 0 | H11: =Analítico!H12 -> 0 | I11: =Analítico!I12 -> 0 | J11: =Analítico!J12 -> 0 | ... AL11: =Analítico!AL12 -> 0 | AM11: =SUM(C11:AL11) -> 0 | AN11: =IF($AM$13=0,0,AM11/$AM$13) -> 0
A12: (E) Total de Entradas: | C12: =SUBTOTAL(109,C8:C11) -> 957808.4 | D12: =SUBTOTAL(109,D8:D11) -> 0 | E12: =SUBTOTAL(109,E8:E11) -> 0 | F12: =SUBTOTAL(109,F8:F11) -> 0 | G12: =SUBTOTAL(109,G8:G11) -> 473861.13 | H12: =SUBTOTAL(109,H8:H11) -> 0 | I12: =SUBTOTAL(109,I8:I11) -> 0 | J12: =SUBTOTAL(109,J8:J11) -> 422750.02 | ... AL12: =SUBTOTAL(109,AL8:AL11) -> 0 | AM12: =SUM(C12:AL12) -> 3839002.2 | AN12: =IF($AM$13=0,0,AM12/$AM$13) -> 1
A13: S. Rem. (SR) + Ent. (E) | C13: =SUBTOTAL(109,C4:C12) -> 957808.4 | D13: =SUBTOTAL(109,D4:D12) -> 0 | E13: =SUBTOTAL(109,E4:E12) -> 0 | F13: =SUBTOTAL(109,F4:F12) -> 0 | G13: =SUBTOTAL(109,G4:G12) -> 473861.13 | H13: =SUBTOTAL(109,H4:H12) -> 0 | I13: =SUBTOTAL(109,I4:I12) -> 0 | J13: =SUBTOTAL(109,J4:J12) -> 422750.02 | ... AL13: =SUBTOTAL(109,AL4:AL12) -> 0 | AM13: =SUM(C13:AL13) -> 3839002.2 | AN13: =IF($AM$13=0,0,AM13/$AM$13) -> 1
A15: 2 | B15: Saída de Recursos
A16: 2.1 | B16: Gastos com Pessoal
A17: 2.1.1 | B17: Salários | C17: =Analítico!C24 -> 31000 | D17: =Analítico!D24 -> 31000 | E17: =Analítico!E24 -> 31000 | F17: =Analítico!F24 -> 31000 | G17: =Analítico!G24 -> 31310 | H17: =Analítico!H24 -> 31310 | I17: =Analítico!I24 -> 31310 | J17: =Analítico!J24 -> 31310 | ... AL17: =Analítico!AL24 -> 0 | AM17: =SUM(C17:AL17) -> 752704.8 | AN17: =IF($AM$25=0,0,AM17/$AM$25) -> 0.19606782
A18: 2.1.2 | B18: Estagiários | C18: =Analítico!C28 -> 0 | D18: =Analítico!D28 -> 15785.28 | E18: =Analítico!E28 -> 15785.28 | F18: =Analítico!F28 -> 20295.36 | G18: =Analítico!G28 -> 21017.302 | H18: =Analítico!H28 -> 21017.302 | I18: =Analítico!I28 -> 21017.302 | J18: =Analítico!J28 -> 21017.302 | ... AL18: =Analítico!AL28 -> 0 | AM18: =SUM(C18:AL18) -> 473462.75 | AN18: =IF($AM$25=0,0,AM18/$AM$25) -> 0.12332964
A19: 2.1.3 | B19: Encargos | C19: =Analítico!C42 -> 20650.366 | D19: =Analítico!D42 -> 20650.366 | E19: =Analítico!E42 -> 20650.366 | F19: =Analítico!F42 -> 20650.366 | G19: =Analítico!G42 -> 20856.87 | H19: =Analítico!H42 -> 20856.87 | I19: =Analítico!I42 -> 20856.87 | J19: =Analítico!J42 -> 20856.87 | ... AL19: =Analítico!AL42 -> 0 | AM19: =SUM(C19:AL19) -> 469901.36 | AN19: =IF($AM$25=0,0,AM19/$AM$25) -> 0.12240195
A20: 2.1.4 | B20: Benefícios | C20: =Analítico!C51 -> 3736 | D20: =Analítico!D51 -> 4016 | E20: =Analítico!E51 -> 4016 | F20: =Analítico!F51 -> 4096 | G20: =Analítico!G51 -> 4131.76 | H20: =Analítico!H51 -> 4131.76 | I20: =Analítico!I51 -> 4131.76 | J20: =Analítico!J51 -> 4131.76 | ... AL20: =Analítico!AL51 -> 0 | AM20: =SUM(C20:AL20) -> 98788.141 | AN20: =IF($AM$25=0,0,AM20/$AM$25) -> 0.025732765
A21: Subtotal (Pessoal): | C21: =SUBTOTAL(109,C17:C20) -> 55386.366 | D21: =SUBTOTAL(109,D17:D20) -> 71451.646 | E21: =SUBTOTAL(109,E17:E20) -> 71451.646 | F21: =SUBTOTAL(109,F17:F20) -> 76041.726 | G21: =SUBTOTAL(109,G17:G20) -> 77315.932 | H21: =SUBTOTAL(109,H17:H20) -> 77315.932 | I21: =SUBTOTAL(109,I17:I20) -> 77315.932 | J21: =SUBTOTAL(109,J17:J20) -> 77315.932 | ... AL21: =SUBTOTAL(109,AL17:AL20) -> 0 | AM21: =SUM(C21:AL21) -> 1794857.1 | AN21: =IF($AM$25=0,0,AM21/$AM$25) -> 0.46753218
A22: 2.2 | B22: Gastos Gerais | C22: =Analítico!C116 -> 170644.44 | D22: =Analítico!D116 -> 177977.78 | E22: =Analítico!E116 -> 198971.11 | F22: =Analítico!F116 -> 100637.78 | G22: =Analítico!G116 -> 100637.78 | H22: =Analítico!H116 -> 70637.778 | I22: =Analítico!I116 -> 70637.778 | J22: =Analítico!J116 -> 70637.778 | ... AL22: =Analítico!AL116 -> 0 | AM22: =SUM(C22:AL22) -> 1996899.2 | AN22: =IF($AM$25=0,0,AM22/$AM$25) -> 0.52016101
A23: 2.3 | B23: Aquisição de Bens Permanentes | C23: =Analítico!C131 -> 35245.9 | D23: =Analítico!D131 -> 0 | E23: =Analítico!E131 -> 0 | F23: =Analítico!F131 -> 0 | G23: =Analítico!G131 -> 0 | H23: =Analítico!H131 -> 0 | I23: =Analítico!I131 -> 0 | J23: =Analítico!J131 -> 0 | ... AL23: =Analítico!AL131 -> 0 | AM23: =SUM(C23:AL23) -> 47245.9 | AN23: =IF($AM$25=0,0,AM23/$AM$25) -> 0.012306818
A24: 2.4 | B24: Transferência para Reserva de Recursos | C24: =Analítico!C132 -> 0 | D24: =Analítico!D132 -> 0 | E24: =Analítico!E132 -> 0 | F24: =Analítico!F132 -> 0 | G24: =Analítico!G132 -> 0 | H24: =Analítico!H132 -> 0 | I24: =Analítico!I132 -> 0 | J24: =Analítico!J132 -> 0 | ... AL24: =Analítico!AL132 -> 0 | AM24: =SUM(C24:AL24) -> 0 | AN24: =IF($AM$25=0,0,AM24/$AM$25) -> 0
A25: (S) Total de Saídas: | C25: =SUBTOTAL(109,C17:C24) -> 261276.71 | D25: =SUBTOTAL(109,D17:D24) -> 249429.42 | E25: =SUBTOTAL(109,E17:E24) -> 270422.76 | F25: =SUBTOTAL(109,F17:F24) -> 176679.5 | G25: =SUBTOTAL(109,G17:G24) -> 177953.71 | H25: =SUBTOTAL(109,H17:H24) -> 147953.71 | I25: =SUBTOTAL(109,I17:I24) -> 147953.71 | J25: =SUBTOTAL(109,J17:J24) -> 147953.71 | ... AL25: =SUBTOTAL(109,AL17:AL24) -> 0 | AM25: =SUM(C25:AL25) -> 3839002.2 | AN25: =IF($AM$25=0,0,AM25/$AM$25) -> 1

Sheet Gastos das Atividades
C1: 1 | D1: 2 | E1: 3 | F1: 4 | G1: 5 | H1: 6 | I1: 7 | J1: 8 | K1: 9 | L1: 10 | M1: 11 | N1: 12 | O1: 13 | P1: 14 | Q1: 15 | R1: 16 | S1: 17 | T1: 18 | U1: 19 | V1: 20 | W1: 21 | X1: 22 | Y1: 23 | Z1: 24 | AA1: 25 | AB1: 26 | AC1: 27 | AD1: 28 | AE1: 29 | AF1: 30 | AG1: 31
B2: =Capa!A1 -> Termo de Parceria celebrado entre o Instituto Estadual do Patrimônio Histórico e Artístico de Minas Gerais - IEPHA/MG e a Associação Pró-Cultura e Promoção das Artes - APPA
B3: Tabela 2 - Previsão de Gastos Gerais das Atividades do Termo de Parceria
A4: Nº | B4: Atividades do Termo de Parceria - Vinculação ao Programa de Trabalho | C4: Mês 1 | D4: Mês 2 | E4: Mês 3 | F4: Mês 4 | G4: Mês 5 | H4: Mês 6 | I4: Mês 7 | J4: Mês 8 | K4: Mês 9 | L4: Mês 10 | M4: Mês 11 | N4: Mês 12 | O4: Mês 13 | P4: Mês 14 | Q4: Mês 15 | R4: Mês 16 | S4: Mês 17 | T4: Mês 18 | U4: Mês 19 | V4: Mês 20 | W4: Mês 21 | X4: Mês 22 | Y4: Mês 23 | Z4: Mês 24 | AA4: Mês 25 | AB4: Mês 26 | AC4: Mês 27 | AD4: Mês 28 | AE4: Mês 29 | AF4: Mês 30 | AG4: Mês 31 | AH4: Ano 1 Valor | AI4: Ano 2 Valor | AJ4: Ano 3 Valor | AK4: Total | AL4: Ano 1 % | AM4: Ano 2 % | AN4: Ano 3 % | AO4: % do Total
A5: 1 | B5: Aquisição de Bens Permanentes | C5: =SUMPRODUCT(-(Bens!$D$4:$D$103='Gastos das Atividades'!C1),-(Bens!$G$4:$G$103)) -> 35245.9 | D5: =SUMPRODUCT(-(Bens!$D$4:$D$103='Gastos das Atividades'!D1),-(Bens!$G$4:$G$103)) -> 0 | E5: =SUMPRODUCT(-(Bens!$D$4:$D$103='Gastos das Atividades'!E1),-(Bens!$G$4:$G$103)) -> 0 | F5: =SUMPRODUCT(-(Bens!$D$4:$D$103='Gastos das Atividades'!F1),-(Bens!$G$4:$G$103)) -> 0 | G5: =SUMPRODUCT(-(Bens!$D$4:$D$103='Gastos das Atividades'!G1),-(Bens!$G$4:$G$103)) -> 0 | H5: =SUMPRODUCT(-(Bens!$D$4:$D$103='Gastos das Atividades'!H1),-(Bens!$G$4:$G$103)) -> 0 | I5: =SUMPRODUCT(-(Bens!$D$4:$D$103='Gastos das Atividades'!I1),-(Bens!$G$4:$G$103)) -> 0 | J5: =SUMPRODUCT(-(Bens!$D$4:$D$103='Gastos das Atividades'!J1),-(Bens!$G$4:$G$103)) -> 0 | ... AG5: =SUMPRODUCT(-(Bens!$D$4:$D$103='Gastos das Atividades'!AG1),-(Bens!$G$4:$G$103)) -> 0 | AH5: =SUM(C5:N5) -> 35245.9 | AI5: =SUM(O5:Z5) -> 12000 | AJ5: =SUM(AA5:AG5) -> 0 | AK5: =SUM(C5:AG5) -> 47245.9 | AL5: =IF($AK$35=0,0,AH5/$AK$35) -> 0.017242367 | AM5: =IF($AK$35=0,0,AI5/$AK$35) -> 0.0058704246 | AN5: =IF($AK$35=0,0,AJ5/$AK$35) -> 0 | AO5: =IF($AK$35=0,0,AK5/$AK$35) -> 0.023112791
A6: 2 | B6: Área Meio - Atividades e Gastos | C6: =SUMPRODUCT(-('Fluxo de Gastos Gerais'!$F$4:$F$1003='Gastos das Atividades'!$B6),-('Gastos das Atividades'!C$1>='Fluxo de Gastos Gerais'!$D$4:$D$1003),-('Gastos das Atividades'!C$1<='Fluxo de Gastos Gerais'!$E$4:$E$1003),-('Fluxo de Gastos Gerais'!$C$4:$C$1003)) -> 12866.667 | D6: =SUMPRODUCT(-('Fluxo de Gastos Gerais'!$F$4:$F$1003='Gastos das Atividades'!$B6),-('Gastos das Atividades'!D$1>='Fluxo de Gastos Gerais'!$D$4:$D$1003),-('Gastos das Atividades'!D$1<='Fluxo de Gastos Gerais'!$E$4:$E$1003),-('Fluxo de Gastos Gerais'!$C$4:$C$1003)) -> 12866.667 | E6: =SUMPRODUCT(-('Fluxo de Gastos Gerais'!$F$4:$F$1003='Gastos das Atividades'!$B6),-('Gastos das Atividades'!E$1>='Fluxo de Gastos Gerais'!$D$4:$D$1003),-('Gastos das Atividades'!E$1<='Fluxo de Gastos Gerais'!$E$4:$E$1003),-('Fluxo de Gastos Gerais'!$C$4:$C$1003)) -> 12866.667 | F6: =SUMPRODUCT(-('Fluxo de Gastos Gerais'!$F$4:$F$1003='Gastos das Atividades'!$B6),-('Gastos das Atividades'!F$1>='Fluxo de Gastos Gerais'!$D$4:$D$1003),-('Gastos das Atividades'!F$1<='Fluxo de Gastos Gerais'!$E$4:$E$1003),-('Fluxo de Gastos Gerais'!$C$4:$C$1003)) -> 12866.667 | G6: =SUMPRODUCT(-('Fluxo de Gastos Gerais'!$F$4:$F$1003='Gastos das Atividades'!$B6),-('Gastos das Atividades'!G$1>='Fluxo de Gastos Gerais'!$D$4:$D$1003),-('Gastos das Atividades'!G$1<='Fluxo de Gastos Gerais'!$E$4:$E$1003),-('Fluxo de Gastos Gerais'!$C$4:$C$1003)) -> 12866.667 | H6: =SUMPRODUCT(-('Fluxo de Gastos Gerais'!$F$4:$F$1003='Gastos das Atividades'!$B6),-('Gastos das Atividades'!H$1>='Fluxo de Gastos Gerais'!$D$4:$D$1003),-('Gastos das Atividades'!H$1<='Fluxo de Gastos Gerais'!$E$4:$E$1003),-('Fluxo de Gastos Gerais'!$C$4:$C$1003)) -> 12866.667 | I6: =SUMPRODUCT(-('Fluxo de Gastos Gerais'!$F$4:$F$1003='Gastos das Atividades'!$B6),-('Gastos das Atividades'!I$1>='Fluxo de Gastos Gerais'!$D$4:$D$1003),-('Gastos das Atividades'!I$1<='Fluxo de Gastos Gerais'!$E$4:$E$1003),-('Fluxo de Gastos Gerais'!$C$4:$C$1003)) -> 12866.667 | J6: =SUMPRODUCT(-('Fluxo de Gastos Gerais'!$F$4:$F$1003='Gastos das Atividades'!$B6),-('Gastos das Atividades'!J$1>='Fluxo de Gastos Gerais'!$D$4:$D$1003),-('Gastos das Atividades'!J$1<='Fluxo de Gastos Gerais'!$E$4:$E$1003),-('Fluxo de Gastos Gerais'!$C$4:$C$1003)) -> 12866.667 | ... AG6: =SUMPRODUCT(-('Fluxo de Gastos Gerais'!$F$4:$F$1003='Gastos das Atividades'!$B6),-('Gastos das Atividades'!AG$1>='Fluxo de Gastos Gerais'!$D$4:$D$1003),-('Gastos das Atividades'!AG$1<='Fluxo de Gastos Gerais'!$E$4:$E$1003),-('Fluxo de Gastos Gerais'!$C$4:$C$1003)) -> 0 | AH6: =SUM(C6:N6) -> 154400 | AI6: =SUM(O6:Z6) -> 167500 | AJ6: =SUM(AA6:AG6) -> 0 | AK6: =SUM(C6:AG6) -> 321900 | AL6: =IF($AK$35=0,0,AH6/$AK$35) -> 0.075532797 | AM6: =IF($AK$35=0,0,AI6/$AK$35) -> 0.081941345 | AN6: =IF($AK$35=0,0,AJ6/$AK$35) -> 0 | AO6: =IF($AK$35=0,0,AK6/$AK$35) -> 0.15747414
A7: 3 | B7: Educação Patrimonial | C7: =SUMPRODUCT(-('Fluxo de Gastos Gerais'!$F$4:$F$1003='Gastos das Atividades'!$B7),-('Gastos das Atividades'!C$1>='Fluxo de Gastos Gerais'!$D$4:$D$1003),-('Gastos das Atividades'!C$1<='Fluxo de Gastos Gerais'!$E$4:$E$1003),-('Fluxo de Gastos Gerais'!$C$4:$C$1003)) -> 8333.3333 | D7: =SUMPRODUCT(-('Fluxo de Gastos Gerais'!$F$4:$F$1003='Gastos das Atividades'!$B7),-('Gastos das Atividades'!D$1>='Fluxo de Gastos Gerais'!$D$4:$D$1003),-('Gastos das Atividades'!D$1<='Fluxo de Gastos Gerais'!$E$4:$E$1003),-('Fluxo de Gastos Gerais'!$C$4:$C$1003)) -> 15666.667 | E7: =SUMPRODUCT(-('Fluxo de Gastos Gerais'!$F$4:$F$1003='Gastos das Atividades'!$B7),-('Gastos das Atividades'!E$1>='Fluxo de Gastos Gerais'!$D$4:$D$1003),-('Gastos das Atividades'!E$1<='Fluxo de Gastos Gerais'!$E$4:$E$1003),-('Fluxo de Gastos Gerais'!$C$4:$C$1003)) -> 36660 | F7: =SUMPRODUCT(-('Fluxo de Gastos Gerais'!$F$4:$F$1003='Gastos das Atividades'!$B7),-('Gastos das Atividades'!F$1>='Fluxo de Gastos Gerais'!$D$4:$D$1003),-('Gastos das Atividades'!F$1<='Fluxo de Gastos Gerais'!$E$4:$E$1003),-('Fluxo de Gastos Gerais'!$C$4:$C$1003)) -> 36660 | G7: =SUMPRODUCT(-('Fluxo de Gastos Gerais'!$F$4:$F$1003='Gastos das Atividades'!$B7),-('Gastos das Atividades'!G$1>='Fluxo de Gastos Gerais'!$D$4:$D$1003),-('Gastos das Atividades'!G$1<='Fluxo de Gastos Gerais'!$E$4:$E$1003),-('Fluxo de Gastos Gerais'!$C$4:$C$1003)) -> 36660 | H7: =SUMPRODUCT(-('Fluxo de Gastos Gerais'!$F$4:$F$1003='Gastos das Atividades'!$B7),-('Gastos das Atividades'!H$1>='Fluxo de Gastos Gerais'!$D$4:$D$1003),-('Gastos das Atividades'!H$1<='Fluxo de Gastos Gerais'!$E$4:$E$1003),-('Fluxo de Gastos Gerais'!$C$4:$C$1003)) -> 36660 | I7: =SUMPRODUCT(-('Fluxo de Gastos Gerais'!$F$4:$F$1003='Gastos das Atividades'!$B7),-('Gastos das Atividades'!I$1>='Fluxo de Gastos Gerais'!$D$4:$D$1003),-('Gastos das Atividades'!I$1<='Fluxo de Gastos Gerais'!$E$4:$E$1003),-('Fluxo de Gastos Gerais'!$C$4:$C$1003)) -> 36660 | J7: =SUMPRODUCT(-('Fluxo de Gastos Gerais'!$F$4:$F$1003='Gastos das Atividades'!$B7),-('Gastos das Atividades'!J$1>='Fluxo de Gastos Gerais'!$D$4:$D$1003),-('Gastos das Atividades'!J$1<='Fluxo de Gastos Gerais'!$E$4:$E$1003),-('Fluxo de Gastos Gerais'!$C$4:$C$1003)) -> 36660 | ... AG7: =SUMPRODUCT(-('Fluxo de Gastos Gerais'!$F$4:$F$1003='Gastos das Atividades'!$B7),-('Gastos das Atividades'!AG$1>='Fluxo de Gastos Gerais'!$D$4:$D$1003),-('Gastos das Atividades'!AG$1<='Fluxo de Gastos Gerais'!$E$4:$E$1003),-('Fluxo de Gastos Gerais'!$C$4:$C$1003)) -> 0 | AH7: =SUM(C7:N7) -> 390600 | AI7: =SUM(O7:Z7) -> 425500 | AJ7: =SUM(AA7:AG7) -> 0 | AK7: =SUM(C7:AG7) -> 816100 | AL7: =IF($AK$35=0,0,AH7/$AK$35) -> 0.19108232 | AM7: =IF($AK$35=0,0,AI7/$AK$35) -> 0.20815547 | AN7: =IF($AK$35=0,0,AJ7/$AK$35) -> 0 | AO7: =IF($AK$35=0,0,AK7/$AK$35) -> 0.3992378
A8: 4 | B8: Promoção do Patrimônio | C8: =SUMPRODUCT(-('Fluxo de Gastos Gerais'!$F$4:$F$1003='Gastos das Atividades'!$B8),-('Gastos das Atividades'!C$1>='Fluxo de Gastos Gerais'!$D$4:$D$1003),-('Gastos das Atividades'!C$1<='Fluxo de Gastos Gerais'!$E$4:$E$1003),-('Fluxo de Gastos Gerais'!$C$4:$C$1003)) -> 149444.44 | D8: =SUMPRODUCT(-('Fluxo de Gastos Gerais'!$F$4:$F$1003='Gastos das Atividades'!$B8),-('Gastos das Atividades'!D$1>='Fluxo de Gastos Gerais'!$D$4:$D$1003),-('Gastos das Atividades'!D$1<='Fluxo de Gastos Gerais'!$E$4:$E$1003),-('Fluxo de Gastos Gerais'!$C$4:$C$1003)) -> 149444.44 | E8: =SUMPRODUCT(-('Fluxo de Gastos Gerais'!$F$4:$F$1003='Gastos das Atividades'!$B8),-('Gastos das Atividades'!E$1>='Fluxo de Gastos Gerais'!$D$4:$D$1003),-('Gastos das Atividades'!E$1<='Fluxo de Gastos Gerais'!$E$4:$E$1003),-('Fluxo de Gastos Gerais'!$C$4:$C$1003)) -> 149444.44 | F8: =SUMPRODUCT(-('Fluxo de Gastos Gerais'!$F$4:$F$1003='Gastos das Atividades'!$B8),-('Gastos das Atividades'!F$1>='Fluxo de Gastos Gerais'!$D$4:$D$1003),-('Gastos das Atividades'!F$1<='Fluxo de Gastos Gerais'!$E$4:$E$1003),-('Fluxo de Gastos Gerais'!$C$4:$C$1003)) -> 51111.111 | G8: =SUMPRODUCT(-('Fluxo de Gastos Gerais'!$F$4:$F$1003='Gastos das Atividades'!$B8),-('Gastos das Atividades'!G$1>='Fluxo de Gastos Gerais'!$D$4:$D$1003),-('Gastos das Atividades'!G$1<='Fluxo de Gastos Gerais'!$E$4:$E$1003),-('Fluxo de Gastos Gerais'!$C$4:$C$1003)) -> 51111.111 | H8: =SUMPRODUCT(-('Fluxo de Gastos Gerais'!$F$4:$F$1003='Gastos das Atividades'!$B8),-('Gastos das Atividades'!H$1>='Fluxo de Gastos Gerais'!$D$4:$D$1003),-('Gastos das Atividades'!H$1<='Fluxo de Gastos Gerais'!$E$4:$E$1003),-('Fluxo de Gastos Gerais'!$C$4:$C$1003)) -> 21111.111 | I8: =SUMPRODUCT(-('Fluxo de Gastos Gerais'!$F$4:$F$1003='Gastos das Atividades'!$B8),-('Gastos das Atividades'!I$1>='Fluxo de Gastos Gerais'!$D$4:$D$1003),-('Gastos das Atividades'!I$1<='Fluxo de Gastos Gerais'!$E$4:$E$1003),-('Fluxo de Gastos Gerais'!$C$4:$C$1003)) -> 21111.111 | J8: =SUMPRODUCT(-('Fluxo de Gastos Gerais'!$F$4:$F$1003='Gastos das Atividades'!$B8),-('Gastos das Atividades'!J$1>='Fluxo de Gastos Gerais'!$D$4:$D$1003),-('Gastos das Atividades'!J$1<='Fluxo de Gastos Gerais'!$E$4:$E$1003),-('Fluxo de Gastos Gerais'!$C$4:$C$1003)) -> 21111.111 | ... AG8: =SUMPRODUCT(-('Fluxo de Gastos Gerais'!$F$4:$F$1003='Gastos das Atividades'!$B8),-('Gastos das Atividades'!AG$1>='Fluxo de Gastos Gerais'!$D$4:$D$1003),-('Gastos das Atividades'!AG$1<='Fluxo de Gastos Gerais'!$E$4:$E$1003),-('Fluxo de Gastos Gerais'!$C$4:$C$1003)) -> 0 | AH8: =SUM(C8:N8) -> 635000 | AI8: =SUM(O8:Z8) -> 223899.24 | AJ8: =SUM(AA8:AG8) -> 0 | AK8: =SUM(C8:AG8) -> 858899.24 | AL8: =IF($AK$35=0,0,AH8/$AK$35) -> 0.3106433 | AM8: =IF($AK$35=0,0,AI8/$AK$35) -> 0.10953197 | AN8: =IF($AK$35=0,0,AJ8/$AK$35) -> 0 | AO8: =IF($AK$35=0,0,AK8/$AK$35) -> 0.42017527
A9: 5 | C9: =SUMPRODUCT(-('Fluxo de Gastos Gerais'!$F$4:$F$1003='Gastos das Atividades'!$B9),-('Gastos das Atividades'!C$1>='Fluxo de Gastos Gerais'!$D$4:$D$1003),-('Gastos das Atividades'!C$1<='Fluxo de Gastos Gerais'!$E$4:$E$1003),-('Fluxo de Gastos Gerais'!$C$4:$C$1003)) -> 0 | D9: =SUMPRODUCT(-('Fluxo de Gastos Gerais'!$F$4:$F$1003='Gastos das Atividades'!$B9),-('Gastos das Atividades'!D$1>='Fluxo de Gastos Gerais'!$D$4:$D$1003),-('Gastos das Atividades'!D$1<='Fluxo de Gastos Gerais'!$E$4:$E$1003),-('Fluxo de Gastos Gerais'!$C$4:$C$1003)) -> 0 | E9: =SUMPRODUCT(-('Fluxo de Gastos Gerais'!$F$4:$F$1003='Gastos das Atividades'!$B9),-('Gastos das Atividades'!E$1>='Fluxo de Gastos Gerais'!$D$4:$D$1003),-('Gastos das Atividades'!E$1<='Fluxo de Gastos Gerais'!$E$4:$E$1003),-('Fluxo de Gastos Gerais'!$C$4:$C$1003)) -> 0 | F9: =SUMPRODUCT(-('Fluxo de Gastos Gerais'!$F$4:$F$1003='Gastos das Atividades'!$B9),-('Gastos das Atividades'!F$1>='Fluxo de Gastos Gerais'!$D$4:$D$1003),-('Gastos das Atividades'!F$1<='Fluxo de Gastos Gerais'!$E$4:$E$1003),-('Fluxo de Gastos Gerais'!$C$4:$C$1003)) -> 0 | G9: =SUMPRODUCT(-('Fluxo de Gastos Gerais'!$F$4:$F$1003='Gastos das Atividades'!$B9),-('Gastos das Atividades'!G$1>='Fluxo de Gastos Gerais'!$D$4:$D$1003),-('Gastos das Atividades'!G$1<='Fluxo de Gastos Gerais'!$E$4:$E$1003),-('Fluxo de Gastos Gerais'!$C$4:$C$1003)) -> 0 | H9: =SUMPRODUCT(-('Fluxo de Gastos Gerais'!$F$4:$F$1003='Gastos das Atividades'!$B9),-('Gastos das Atividades'!H$1>='Fluxo de Gastos Gerais'!$D$4:$D$1003),-('Gastos das Atividades'!H$1<='Fluxo de Gastos Gerais'!$E$4:$E$1003),-('Fluxo de Gastos Gerais'!$C$4:$C$1003)) -> 0 | I9: =SUMPRODUCT(-('Fluxo de Gastos Gerais'!$F$4:$F$1003='Gastos das Atividades'!$B9),-('Gastos das Atividades'!I$1>='Fluxo de Gastos Gerais'!$D$4:$D$1003),-('Gastos das Atividades'!I$1<='Fluxo de Gastos Gerais'!$E$4:$E$1003),-('Fluxo de Gastos Gerais'!$C$4:$C$1003)) -> 0 | J9: =SUMPRODUCT(-('Fluxo de Gastos Gerais'!$F$4:$F$1003='Gastos das Atividades'!$B9),-('Gastos das Atividades'!J$1>='Fluxo de Gastos Gerais'!$D$4:$D$1003),-('Gastos das Atividades'!J$1<='Fluxo de Gastos Gerais'!$E$4:$E$1003),-('Fluxo de Gastos Gerais'!$C$4:$C$1003)) -> 0 | ... AG9: =SUMPRODUCT(-('Fluxo de Gastos Gerais'!$F$4:$F$1003='Gastos das Atividades'!$B9),-('Gastos das Atividades'!AG$1>='Fluxo de Gastos Gerais'!$D$4:$D$1003),-('Gastos das Atividades'!AG$1<='Fluxo de Gastos Gerais'!$E$4:$E$1003),-('Fluxo de Gastos Gerais'!$C$4:$C$1003)) -> 0 | AH9: =SUM(C9:N9) -> 0 | AI9: =SUM(O9:Z9) -> 0 | AJ9: =SUM(AA9:AG9) -> 0 | AK9: =SUM(C9:AG9) -> 0 | AL9: =IF($AK$35=0,0,AH9/$AK$35) -> 0 | AM9: =IF($AK$35=0,0,AI9/$AK$35) -> 0 | AN9: =IF($AK$35=0,0,AJ9/$AK$35) -> 0 | AO9: =IF($AK$35=0,0,AK9/$AK$35) -> 0
A10: 6 | C10: =SUMPRODUCT(-('Fluxo de Gastos Gerais'!$F$4:$F$1003='Gastos das Atividades'!$B10),-('Gastos das Atividades'!C$1>='Fluxo de Gastos Gerais'!$D$4:$D$1003),-('Gastos das Atividades'!C$1<='Fluxo de Gastos Gerais'!$E$4:$E$1003),-('Fluxo de Gastos Gerais'!$C$4:$C$1003)) -> 0 | D10: =SUMPRODUCT(-('Fluxo de Gastos Gerais'!$F$4:$F$1003='Gastos das Atividades'!$B10),-('Gastos das Atividades'!D$1>='Fluxo de Gastos Gerais'!$D$4:$D$1003),-('Gastos das Atividades'!D$1<='Fluxo de Gastos Gerais'!$E$4:$E$1003),-('Fluxo de Gastos Gerais'!$C$4:$C$1003)) -> 0 | E10: =SUMPRODUCT(-('Fluxo de Gastos Gerais'!$F$4:$F$1003='Gastos das Atividades'!$B10),-('Gastos das Atividades'!E$1>='Fluxo de Gastos Gerais'!$D$4:$D$1003),-('Gastos das Atividades'!E$1<='Fluxo de Gastos Gerais'!$E$4:$E$1003),-('Fluxo de Gastos Gerais'!$C$4:$C$1003)) -> 0 | F10: =SUMPRODUCT(-('Fluxo de Gastos Gerais'!$F$4:$F$1003='Gastos das Atividades'!$B10),-('Gastos das Atividades'!F$1>='Fluxo de Gastos Gerais'!$D$4:$D$1003),-('Gastos das Atividades'!F$1<='Fluxo de Gastos Gerais'!$E$4:$E$1003),-('Fluxo de Gastos Gerais'!$C$4:$C$1003)) -> 0 | G10: =SUMPRODUCT(-('Fluxo de Gastos Gerais'!$F$4:$F$1003='Gastos das Atividades'!$B10),-('Gastos das Atividades'!G$1>='Fluxo de Gastos Gerais'!$D$4:$D$1003),-('Gastos das Atividades'!G$1<='Fluxo de Gastos Gerais'!$E$4:$E$1003),-('Fluxo de Gastos Gerais'!$C$4:$C$1003)) -> 0 | H10: =SUMPRODUCT(-('Fluxo de Gastos Gerais'!$F$4:$F$1003='Gastos das Atividades'!$B10),-('Gastos das Atividades'!H$1>='Fluxo de Gastos Gerais'!$D$4:$D$1003),-('Gastos das Atividades'!H$1<='Fluxo de Gastos Gerais'!$E$4:$E$1003),-('Fluxo de Gastos Gerais'!$C$4:$C$1003)) -> 0 | I10: =SUMPRODUCT(-('Fluxo de Gastos Gerais'!$F$4:$F$1003='Gastos das Atividades'!$B10),-('Gastos das Atividades'!I$1>='Fluxo de Gastos Gerais'!$D$4:$D$1003),-('Gastos das Atividades'!I$1<='Fluxo de Gastos Gerais'!$E$4:$E$1003),-('Fluxo de Gastos Gerais'!$C$4:$C$1003)) -> 0 | J10: =SUMPRODUCT(-('Fluxo de Gastos Gerais'!$F$4:$F$1003='Gastos das Atividades'!$B10),-('Gastos das Atividades'!J$1>='Fluxo de Gastos Gerais'!$D$4:$D$1003),-('Gastos das Atividades'!J$1<='Fluxo de Gastos Gerais'!$E$4:$E$1003),-('Fluxo de Gastos Gerais'!$C$4:$C$1003)) -> 0 | ... AG10: =SUMPRODUCT(-('Fluxo de Gastos Gerais'!$F$4:$F$1003='Gastos das Atividades'!$B10),-('Gastos das Atividades'!AG$1>='Fluxo de Gastos Gerais'!$D$4:$D$1003),-('Gastos das Atividades'!AG$1<='Fluxo de Gastos Gerais'!$E$4:$E$1003),-('Fluxo de Gastos Gerais'!$C$4:$C$1003)) -> 0 | AH10: =SUM(C10:N10) -> 0 | AI10: =SUM(O10:Z10) -> 0 | AJ10: =SUM(AA10:AG10) -> 0 | AK10: =SUM(C10:AG10) -> 0 | AL10: =IF($AK$35=0,0,AH10/$AK$35) -> 0 | AM10: =IF($AK$35=0,0,AI10/$AK$35) -> 0 | AN10: =IF($AK$35=0,0,AJ10/$AK$35) -> 0 | AO10: =IF($AK$35=0,0,AK10/$AK$35) -> 0
A11: 7 | C11: =SUMPRODUCT(-('Fluxo de Gastos Gerais'!$F$4:$F$1003='Gastos das Atividades'!$B11),-('Gastos das Atividades'!C$1>='Fluxo de Gastos Gerais'!$D$4:$D$1003),-('Gastos das Atividades'!C$1<='Fluxo de Gastos Gerais'!$E$4:$E$1003),-('Fluxo de Gastos Gerais'!$C$4:$C$1003)) -> 0 | D11: =SUMPRODUCT(-('Fluxo de Gastos Gerais'!$F$4:$F$1003='Gastos das Atividades'!$B11),-('Gastos das Atividades'!D$1>='Fluxo de Gastos Gerais'!$D$4:$D$1003),-('Gastos das Atividades'!D$1<='Fluxo de Gastos Gerais'!$E$4:$E$1003),-('Fluxo de Gastos Gerais'!$C$4:$C$1003)) -> 0 | E11: =SUMPRODUCT(-('Fluxo de Gastos Gerais'!$F$4:$F$1003='Gastos das Atividades'!$B11),-('Gastos das Atividades'!E$1>='Fluxo de Gastos Gerais'!$D$4:$D$1003),-('Gastos das Atividades'!E$1<='Fluxo de Gastos Gerais'!$E$4:$E$1003),-('Fluxo de Gastos Gerais'!$C$4:$C$1003)) -> 0 | F11: =SUMPRODUCT(-('Fluxo de Gastos Gerais'!$F$4:$F$1003='Gastos das Atividades'!$B11),-('Gastos das Atividades'!F$1>='Fluxo de Gastos Gerais'!$D$4:$D$1003),-('Gastos das Atividades'!F$1<='Fluxo de Gastos Gerais'!$E$4:$E$1003),-('Fluxo de Gastos Gerais'!$C$4:$C$1003)) -> 0 | G11: =SUMPRODUCT(-('Fluxo de Gastos Gerais'!$F$4:$F$1003='Gastos das Atividades'!$B11),-('Gastos das Atividades'!G$1>='Fluxo de Gastos Gerais'!$D$4:$D$1003),-('Gastos das Atividades'!G$1<='Fluxo de Gastos Gerais'!$E$4:$E$1003),-('Fluxo de Gastos Gerais'!$C$4:$C$1003)) -> 0 | H11: =SUMPRODUCT(-('Fluxo de Gastos Gerais'!$F$4:$F$1003='Gastos das Atividades'!$B11),-('Gastos das Atividades'!H$1>='Fluxo de Gastos Gerais'!$D$4:$D$1003),-('Gastos das Atividades'!H$1<='Fluxo de Gastos Gerais'!$E$4:$E$1003),-('Fluxo de Gastos Gerais'!$C$4:$C$1003)) -> 0 | I11: =SUMPRODUCT(-('Fluxo de Gastos Gerais'!$F$4:$F$1003='Gastos das Atividades'!$B11),-('Gastos das Atividades'!I$1>='Fluxo de Gastos Gerais'!$D$4:$D$1003),-('Gastos das Atividades'!I$1<='Fluxo de Gastos Gerais'!$E$4:$E$1003),-('Fluxo de Gastos Gerais'!$C$4:$C$1003)) -> 0 | J11: =SUMPRODUCT(-('Fluxo de Gastos Gerais'!$F$4:$F$1003='Gastos das Atividades'!$B11),-('Gastos das Atividades'!J$1>='Fluxo de Gastos Gerais'!$D$4:$D$1003),-('Gastos das Atividades'!J$1<='Fluxo de Gastos Gerais'!$E$4:$E$1003),-('Fluxo de Gastos Gerais'!$C$4:$C$1003)) -> 0 | ... AG11: =SUMPRODUCT(-('Fluxo de Gastos Gerais'!$F$4:$F$1003='Gastos das Atividades'!$B11),-('Gastos das Atividades'!AG$1>='Fluxo de Gastos Gerais'!$D$4:$D$1003),-('Gastos das Atividades'!AG$1<='Fluxo de Gastos Gerais'!$E$4:$E$1003),-('Fluxo de Gastos Gerais'!$C$4:$C$1003)) -> 0 | AH11: =SUM(C11:N11) -> 0 | AI11: =SUM(O11:Z11) -> 0 | AJ11: =SUM(AA11:AG11) -> 0 | AK11: =SUM(C11:AG11) -> 0 | AL11: =IF($AK$35=0,0,AH11/$AK$35) -> 0 | AM11: =IF($AK$35=0,0,AI11/$AK$35) -> 0 | AN11: =IF($AK$35=0,0,AJ11/$AK$35) -> 0 | AO11: =IF($AK$35=0,0,AK11/$AK$35) -> 0
A12: 8 | C12: =SUMPRODUCT(-('Fluxo de Gastos Gerais'!$F$4:$F$1003='Gastos das Atividades'!$B12),-('Gastos das Atividades'!C$1>='Fluxo de Gastos Gerais'!$D$4:$D$1003),-('Gastos das Atividades'!C$1<='Fluxo de Gastos Gerais'!$E$4:$E$1003),-('Fluxo de Gastos Gerais'!$C$4:$C$1003)) -> 0 | D12: =SUMPRODUCT(-('Fluxo de Gastos Gerais'!$F$4:$F$1003='Gastos das Atividades'!$B12),-('Gastos das Atividades'!D$1>='Fluxo de Gastos Gerais'!$D$4:$D$1003),-('Gastos das Atividades'!D$1<='Fluxo de Gastos Gerais'!$E$4:$E$1003),-('Fluxo de Gastos Gerais'!$C$4:$C$1003)) -> 0 | E12: =SUMPRODUCT(-('Fluxo de Gastos Gerais'!$F$4:$F$1003='Gastos das Atividades'!$B12),-('Gastos das Atividades'!E$1>='Fluxo de Gastos Gerais'!$D$4:$D$1003),-('Gastos das Atividades'!E$1<='Fluxo de Gastos Gerais'!$E$4:$E$1003),-('Fluxo de Gastos Gerais'!$C$4:$C$1003)) -> 0 | F12: =SUMPRODUCT(-('Fluxo de Gastos Gerais'!$F$4:$F$1003='Gastos das Atividades'!$B12),-('Gastos das Atividades'!F$1>='Fluxo de Gastos Gerais'!$D$4:$D$1003),-('Gastos das Atividades'!F$1<='Fluxo de Gastos Gerais'!$E$4:$E$1003),-('Fluxo de Gastos Gerais'!$C$4:$C$1003)) -> 0 | G12: =SUMPRODUCT(-('Fluxo de Gastos Gerais'!$F$4:$F$1003='Gastos das Atividades'!$B12),-('Gastos das Atividades'!G$1>='Fluxo de Gastos Gerais'!$D$4:$D$1003),-('Gastos das Atividades'!G$1<='Fluxo de Gastos Gerais'!$E$4:$E$1003),-('Fluxo de Gastos Gerais'!$C$4:$C$1003)) -> 0 | H12: =SUMPRODUCT(-('Fluxo de Gastos Gerais'!$F$4:$F$1003='Gastos das Atividades'!$B12),-('Gastos das Atividades'!H$1>='Fluxo de Gastos Gerais'!$D$4:$D$1003),-('Gastos das Atividades'!H$1<='Fluxo de Gastos Gerais'!$E$4:$E$1003),-('Fluxo de Gastos Gerais'!$C$4:$C$1003)) -> 0 | I12: =SUMPRODUCT(-('Fluxo de Gastos Gerais'!$F$4:$F$1003='Gastos das Atividades'!$B12),-('Gastos das Atividades'!I$1>='Fluxo de Gastos Gerais'!$D$4:$D$1003),-('Gastos das Atividades'!I$1<='Fluxo de Gastos Gerais'!$E$4:$E$1003),-('Fluxo de Gastos Gerais'!$C$4:$C$1003)) -> 0 | J12: =SUMPRODUCT(-('Fluxo de Gastos Gerais'!$F$4:$F$1003='Gastos das Atividades'!$B12),-('Gastos das Atividades'!J$1>='Fluxo de Gastos Gerais'!$D$4:$D$1003),-('Gastos das Atividades'!J$1<='Fluxo de Gastos Gerais'!$E$4:$E$1003),-('Fluxo de Gastos Gerais'!$C$4:$C$1003)) -> 0 | ... AG12: =SUMPRODUCT(-('Fluxo de Gastos Gerais'!$F$4:$F$1003='Gastos das Atividades'!$B12),-('Gastos das Atividades'!AG$1>='Fluxo de Gastos Gerais'!$D$4:$D$1003),-('Gastos das Atividades'!AG$1<='Fluxo de Gastos Gerais'!$E$4:$E$1003),-('Fluxo de Gastos Gerais'!$C$4:$C$1003)) -> 0 | AH12: =SUM(C12:N12) -> 0 | AI12: =SUM(O12:Z12) -> 0 | AJ12: =SUM(AA12:AG12) -> 0 | AK12: =SUM(C12:AG12) -> 0 | AL12: =IF($AK$35=0,0,AH12/$AK$35) -> 0 | AM12: =IF($AK$35=0,0,AI12/$AK$35) -> 0 | AN12: =IF($AK$35=0,0,AJ12/$AK$35) -> 0 | AO12: =IF($AK$35=0,0,AK12/$AK$35) -> 0
A13: 9 | C13: =SUMPRODUCT(-('Fluxo de Gastos Gerais'!$F$4:$F$1003='Gastos das Atividades'!$B13),-('Gastos das Atividades'!C$1>='Fluxo de Gastos Gerais'!$D$4:$D$1003),-('Gastos das Atividades'!C$1<='Fluxo de Gastos Gerais'!$E$4:$E$1003),-('Fluxo de Gastos Gerais'!$C$4:$C$1003)) -> 0 | D13: =SUMPRODUCT(-('Fluxo de Gastos Gerais'!$F$4:$F$1003='Gastos das Atividades'!$B13),-('Gastos das Atividades'!D$1>='Fluxo de Gastos Gerais'!$D$4:$D$1003),-('Gastos das Atividades'!D$1<='Fluxo de Gastos Gerais'!$E$4:$E$1003),-('Fluxo de Gastos Gerais'!$C$4:$C$1003)) -> 0 | E13: =SUMPRODUCT(-('Fluxo de Gastos Gerais'!$F$4:$F$1003='Gastos das Atividades'!$B13),-('Gastos das Atividades'!E$1>='Fluxo de Gastos Gerais'!$D$4:$D$1003),-('Gastos das Atividades'!E$1<='Fluxo de Gastos Gerais'!$E$4:$E$1003),-('Fluxo de Gastos Gerais'!$C$4:$C$1003)) -> 0 | F13: =SUMPRODUCT(-('Fluxo de Gastos Gerais'!$F$4:$F$1003='Gastos das Atividades'!$B13),-('Gastos das Atividades'!F$1>='Fluxo de Gastos Gerais'!$D$4:$D$1003),-('Gastos das Atividades'!F$1<='Fluxo de Gastos Gerais'!$E$4:$E$1003),-('Fluxo de Gastos Gerais'!$C$4:$C$1003)) -> 0 | G13: =SUMPRODUCT(-('Fluxo de Gastos Gerais'!$F$4:$F$1003='Gastos das Atividades'!$B13),-('Gastos das Atividades'!G$1>='Fluxo de Gastos Gerais'!$D$4:$D$1003),-('Gastos das Atividades'!G$1<='Fluxo de Gastos Gerais'!$E$4:$E$1003),-('Fluxo de Gastos Gerais'!$C$4:$C$1003)) -> 0 | H13: =SUMPRODUCT(-('Fluxo de Gastos Gerais'!$F$4:$F$1003='Gastos das Atividades'!$B13),-('Gastos das Atividades'!H$1>='Fluxo de Gastos Gerais'!$D$4:$D$1003),-('Gastos das Atividades'!H$1<='Fluxo de Gastos Gerais'!$E$4:$E$1003),-('Fluxo de Gastos Gerais'!$C$4:$C$1003)) -> 0 | I13: =SUMPRODUCT(-('Fluxo de Gastos Gerais'!$F$4:$F$1003='Gastos das Atividades'!$B13),-('Gastos das Atividades'!I$1>='Fluxo de Gastos Gerais'!$D$4:$D$1003),-('Gastos das Atividades'!I$1<='Fluxo de Gastos Gerais'!$E$4:$E$1003),-('Fluxo de Gastos Gerais'!$C$4:$C$1003)) -> 0 | J13: =SUMPRODUCT(-('Fluxo de Gastos Gerais'!$F$4:$F$1003='Gastos das Atividades'!$B13),-('Gastos das Atividades'!J$1>='Fluxo de Gastos Gerais'!$D$4:$D$1003),-('Gastos das Atividades'!J$1<='Fluxo de Gastos Gerais'!$E$4:$E$1003),-('Fluxo de Gastos Gerais'!$C$4:$C$1003)) -> 0 | ... AG13: =SUMPRODUCT(-('Fluxo de Gastos Gerais'!$F$4:$F$1003='Gastos das Atividades'!$B13),-('Gastos das Atividades'!AG$1>='Fluxo de Gastos Gerais'!$D$4:$D$1003),-('Gastos das Atividades'!AG$1<='Fluxo de Gastos Gerais'!$E$4:$E$1003),-('Fluxo de Gastos Gerais'!$C$4:$C$1003)) -> 0 | AH13: =SUM(C13:N13) -> 0 | AI13: =SUM(O13:Z13) -> 0 | AJ13: =SUM(AA13:AG13) -> 0 | AK13: =SUM(C13:AG13) -> 0 | AL13: =IF($AK$35=0,0,AH13/$AK$35) -> 0 | AM13: =IF($AK$35=0,0,AI13/$AK$35) -> 0 | AN13: =IF($AK$35=0,0,AJ13/$AK$35) -> 0 | AO13: =IF($AK$35=0,0,AK13/$AK$35) -> 0
A14: 10 | C14: =SUMPRODUCT(-('Fluxo de Gastos Gerais'!$F$4:$F$1003='Gastos das Atividades'!$B14),-('Gastos das Atividades'!C$1>='Fluxo de Gastos Gerais'!$D$4:$D$1003),-('Gastos das Atividades'!C$1<='Fluxo de Gastos Gerais'!$E$4:$E$1003),-('Fluxo de Gastos Gerais'!$C$4:$C$1003)) -> 0 | D14: =SUMPRODUCT(-('Fluxo de Gastos Gerais'!$F$4:$F$1003='Gastos das Atividades'!$B14),-('Gastos das Atividades'!D$1>='Fluxo de Gastos Gerais'!$D$4:$D$1003),-('Gastos das Atividades'!D$1<='Fluxo de Gastos Gerais'!$E$4:$E$1003),-('Fluxo de Gastos Gerais'!$C$4:$C$1003)) -> 0 | E14: =SUMPRODUCT(-('Fluxo de Gastos Gerais'!$F$4:$F$1003='Gastos das Atividades'!$B14),-('Gastos das Atividades'!E$1>='Fluxo de Gastos Gerais'!$D$4:$D$1003),-('Gastos das Atividades'!E$1<='Fluxo de Gastos Gerais'!$E$4:$E$1003),-('Fluxo de Gastos Gerais'!$C$4:$C$1003)) -> 0 | F14: =SUMPRODUCT(-('Fluxo de Gastos Gerais'!$F$4:$F$1003='Gastos das Atividades'!$B14),-('Gastos das Atividades'!F$1>='Fluxo de Gastos Gerais'!$D$4:$D$1003),-('Gastos das Atividades'!F$1<='Fluxo de Gastos Gerais'!$E$4:$E$1003),-('Fluxo de Gastos Gerais'!$C$4:$C$1003)) -> 0 | G14: =SUMPRODUCT(-('Fluxo de Gastos Gerais'!$F$4:$F$1003='Gastos das Atividades'!$B14),-('Gastos das Atividades'!G$1>='Fluxo de Gastos Gerais'!$D$4:$D$1003),-('Gastos das Atividades'!G$1<='Fluxo de Gastos Gerais'!$E$4:$E$1003),-('Fluxo de Gastos Gerais'!$C$4:$C$1003)) -> 0 | H14: =SUMPRODUCT(-('Fluxo de Gastos Gerais'!$F$4:$F$1003='Gastos das Atividades'!$B14),-('Gastos das Atividades'!H$1>='Fluxo de Gastos Gerais'!$D$4:$D$1003),-('Gastos das Atividades'!H$1<='Fluxo de Gastos Gerais'!$E$4:$E$1003),-('Fluxo de Gastos Gerais'!$C$4:$C$1003)) -> 0 | I14: =SUMPRODUCT(-('Fluxo de Gastos Gerais'!$F$4:$F$1003='Gastos das Atividades'!$B14),-('Gastos das Atividades'!I$1>='Fluxo de Gastos Gerais'!$D$4:$D$1003),-('Gastos das Atividades'!I$1<='Fluxo de Gastos Gerais'!$E$4:$E$1003),-('Fluxo de Gastos Gerais'!$C$4:$C$1003)) -> 0 | J14: =SUMPRODUCT(-('Fluxo de Gastos Gerais'!$F$4:$F$1003='Gastos das Atividades'!$B14),-('Gastos das Atividades'!J$1>='Fluxo de Gastos Gerais'!$D$4:$D$1003),-('Gastos das Atividades'!J$1<='Fluxo de Gastos Gerais'!$E$4:$E$1003),-('Fluxo de Gastos Gerais'!$C$4:$C$1003)) -> 0 | ... AG14: =SUMPRODUCT(-('Fluxo de Gastos Gerais'!$F$4:$F$1003='Gastos das Atividades'!$B14),-('Gastos das Atividades'!AG$1>='Fluxo de Gastos Gerais'!$D$4:$D$1003),-('Gastos das Atividades'!AG$1<='Fluxo de Gastos Gerais'!$E$4:$E$1003),-('Fluxo de Gastos Gerais'!$C$4:$C$1003)) -> 0 | AH14: =SUM(C14:N14) -> 0 | AI14: =SUM(O14:Z14) -> 0 | AJ14: =SUM(AA14:AG14) -> 0 | AK14: =SUM(C14:AG14) -> 0 | AL14: =IF($AK$35=0,0,AH14/$AK$35) -> 0 | AM14: =IF($AK$35=0,0,AI14/$AK$35) -> 0 | AN14: =IF($AK$35=0,0,AJ14/$AK$35) -> 0 | AO14: =IF($AK$35=0,0,AK14/$AK$35) -> 0
A15: 11 | C15: =SUMPRODUCT(-('Fluxo de Gastos Gerais'!$F$4:$F$1003='Gastos das Atividades'!$B15),-('Gastos das Atividades'!C$1>='Fluxo de Gastos Gerais'!$D$4:$D$1003),-('Gastos das Atividades'!C$1<='Fluxo de Gastos Gerais'!$E$4:$E$1003),-('Fluxo de Gastos Gerais'!$C$4:$C$1003)) -> 0 | D15: =SUMPRODUCT(-('Fluxo de Gastos Gerais'!$F$4:$F$1003='Gastos das Atividades'!$B15),-('Gastos das Atividades'!D$1>='Fluxo de Gastos Gerais'!$D$4:$D$1003),-('Gastos das Atividades'!D$1<='Fluxo de Gastos Gerais'!$E$4:$E$1003),-('Fluxo de Gastos Gerais'!$C$4:$C$1003)) -> 0 | E15: =SUMPRODUCT(-('Fluxo de Gastos Gerais'!$F$4:$F$1003='Gastos das Atividades'!$B15),-('Gastos das Atividades'!E$1>='Fluxo de Gastos Gerais'!$D$4:$D$1003),-('Gastos das Atividades'!E$1<='Fluxo de Gastos Gerais'!$E$4:$E$1003),-('Fluxo de Gastos Gerais'!$C$4:$C$1003)) -> 0 | F15: =SUMPRODUCT(-('Fluxo de Gastos Gerais'!$F$4:$F$1003='Gastos das Atividades'!$B15),-('Gastos das Atividades'!F$1>='Fluxo de Gastos Gerais'!$D$4:$D$1003),-('Gastos das Atividades'!F$1<='Fluxo de Gastos Gerais'!$E$4:$E$1003),-('Fluxo de Gastos Gerais'!$C$4:$C$1003)) -> 0 | G15: =SUMPRODUCT(-('Fluxo de Gastos Gerais'!$F$4:$F$1003='Gastos das Atividades'!$B15),-('Gastos das Atividades'!G$1>='Fluxo de Gastos Gerais'!$D$4:$D$1003),-('Gastos das Atividades'!G$1<='Fluxo de Gastos Gerais'!$E$4:$E$1003),-('Fluxo de Gastos Gerais'!$C$4:$C$1003)) -> 0 | H15: =SUMPRODUCT(-('Fluxo de Gastos Gerais'!$F$4:$F$1003='Gastos das Atividades'!$B15),-('Gastos das Atividades'!H$1>='Fluxo de Gastos Gerais'!$D$4:$D$1003),-('Gastos das Atividades'!H$1<='Fluxo de Gastos Gerais'!$E$4:$E$1003),-('Fluxo de Gastos Gerais'!$C$4:$C$1003)) -> 0 | I15: =SUMPRODUCT(-('Fluxo de Gastos Gerais'!$F$4:$F$1003='Gastos das Atividades'!$B15),-('Gastos das Atividades'!I$1>='Fluxo de Gastos Gerais'!$D$4:$D$1003),-('Gastos das Atividades'!I$1<='Fluxo de Gastos Gerais'!$E$4:$E$1003),-('Fluxo de Gastos Gerais'!$C$4:$C$1003)) -> 0 | J15: =SUMPRODUCT(-('Fluxo de Gastos Gerais'!$F$4:$F$1003='Gastos das Atividades'!$B15),-('Gastos das Atividades'!J$1>='Fluxo de Gastos Gerais'!$D$4:$D$1003),-('Gastos das Atividades'!J$1<='Fluxo de Gastos Gerais'!$E$4:$E$1003),-('Fluxo de Gastos Gerais'!$C$4:$C$1003)) -> 0 | ... AG15: =SUMPRODUCT(-('Fluxo de Gastos Gerais'!$F$4:$F$1003='Gastos das Atividades'!$B15),-('Gastos das Atividades'!AG$1>='Fluxo de Gastos Gerais'!$D$4:$D$1003),-('Gastos das Atividades'!AG$1<='Fluxo de Gastos Gerais'!$E$4:$E$1003),-('Fluxo de Gastos Gerais'!$C$4:$C$1003)) -> 0 | AH15: =SUM(C15:N15) -> 0 | AI15: =SUM(O15:Z15) -> 0 | AJ15: =SUM(AA15:AG15) -> 0 | AK15: =SUM(C15:AG15) -> 0 | AL15: =IF($AK$35=0,0,AH15/$AK$35) -> 0 | AM15: =IF($AK$35=0,0,AI15/$AK$35) -> 0 | AN15: =IF($AK$35=0,0,AJ15/$AK$35) -> 0 | AO15: =IF($AK$35=0,0,AK15/$AK$35) -> 0
A16: 12 | C16: =SUMPRODUCT(-('Fluxo de Gastos Gerais'!$F$4:$F$1003='Gastos das Atividades'!$B16),-('Gastos das Atividades'!C$1>='Fluxo de Gastos Gerais'!$D$4:$D$1003),-('Gastos das Atividades'!C$1<='Fluxo de Gastos Gerais'!$E$4:$E$1003),-('Fluxo de Gastos Gerais'!$C$4:$C$1003)) -> 0 | D16: =SUMPRODUCT(-('Fluxo de Gastos Gerais'!$F$4:$F$1003='Gastos das Atividades'!$B16),-('Gastos das Atividades'!D$1>='Fluxo de Gastos Gerais'!$D$4:$D$1003),-('Gastos das Atividades'!D$1<='Fluxo de Gastos Gerais'!$E$4:$E$1003),-('Fluxo de Gastos Gerais'!$C$4:$C$1003)) -> 0 | E16: =SUMPRODUCT(-('Fluxo de Gastos Gerais'!$F$4:$F$1003='Gastos das Atividades'!$B16),-('Gastos das Atividades'!E$1>='Fluxo de Gastos Gerais'!$D$4:$D$1003),-('Gastos das Atividades'!E$1<='Fluxo de Gastos Gerais'!$E$4:$E$1003),-('Fluxo de Gastos Gerais'!$C$4:$C$1003)) -> 0 | F16: =SUMPRODUCT(-('Fluxo de Gastos Gerais'!$F$4:$F$1003='Gastos das Atividades'!$B16),-('Gastos das Atividades'!F$1>='Fluxo de Gastos Gerais'!$D$4:$D$1003),-('Gastos das Atividades'!F$1<='Fluxo de Gastos Gerais'!$E$4:$E$1003),-('Fluxo de Gastos Gerais'!$C$4:$C$1003)) -> 0 | G16: =SUMPRODUCT(-('Fluxo de Gastos Gerais'!$F$4:$F$1003='Gastos das Atividades'!$B16),-('Gastos das Atividades'!G$1>='Fluxo de Gastos Gerais'!$D$4:$D$1003),-('Gastos das Atividades'!G$1<='Fluxo de Gastos Gerais'!$E$4:$E$1003),-('Fluxo de Gastos Gerais'!$C$4:$C$1003)) -> 0 | H16: =SUMPRODUCT(-('Fluxo de Gastos Gerais'!$F$4:$F$1003='Gastos das Atividades'!$B16),-('Gastos das Atividades'!H$1>='Fluxo de Gastos Gerais'!$D$4:$D$1003),-('Gastos das Atividades'!H$1<='Fluxo de Gastos Gerais'!$E$4:$E$1003),-('Fluxo de Gastos Gerais'!$C$4:$C$1003)) -> 0 | I16: =SUMPRODUCT(-('Fluxo de Gastos Gerais'!$F$4:$F$1003='Gastos das Atividades'!$B16),-('Gastos das Atividades'!I$1>='Fluxo de Gastos Gerais'!$D$4:$D$1003),-('Gastos das Atividades'!I$1<='Fluxo de Gastos Gerais'!$E$4:$E$1003),-('Fluxo de Gastos Gerais'!$C$4:$C$1003)) -> 0 | J16: =SUMPRODUCT(-('Fluxo de Gastos Gerais'!$F$4:$F$1003='Gastos das Atividades'!$B16),-('Gastos das Atividades'!J$1>='Fluxo de Gastos Gerais'!$D$4:$D$1003),-('Gastos das Atividades'!J$1<='Fluxo de Gastos Gerais'!$E$4:$E$1003),-('Fluxo de Gastos Gerais'!$C$4:$C$1003)) -> 0 | ... AG16: =SUMPRODUCT(-('Fluxo de Gastos Gerais'!$F$4:$F$1003='Gastos das Atividades'!$B16),-('Gastos das Atividades'!AG$1>='Fluxo de Gastos Gerais'!$D$4:$D$1003),-('Gastos das Atividades'!AG$1<='Fluxo de Gastos Gerais'!$E$4:$E$1003),-('Fluxo de Gastos Gerais'!$C$4:$C$1003)) -> 0 | AH16: =SUM(C16:N16) -> 0 | AI16: =SUM(O16:Z16) -> 0 | AJ16: =SUM(AA16:AG16) -> 0 | AK16: =SUM(C16:AG16) -> 0 | AL16: =IF($AK$35=0,0,AH16/$AK$35) -> 0 | AM16: =IF($AK$35=0,0,AI16/$AK$35) -> 0 | AN16: =IF($AK$35=0,0,AJ16/$AK$35) -> 0 | AO16: =IF($AK$35=0,0,AK16/$AK$35) -> 0
A17: 13 | C17: =SUMPRODUCT(-('Fluxo de Gastos Gerais'!$F$4:$F$1003='Gastos das Atividades'!$B17),-('Gastos das Atividades'!C$1>='Fluxo de Gastos Gerais'!$D$4:$D$1003),-('Gastos das Atividades'!C$1<='Fluxo de Gastos Gerais'!$E$4:$E$1003),-('Fluxo de Gastos Gerais'!$C$4:$C$1003)) -> 0 | D17: =SUMPRODUCT(-('Fluxo de Gastos Gerais'!$F$4:$F$1003='Gastos das Atividades'!$B17),-('Gastos das Atividades'!D$1>='Fluxo de Gastos Gerais'!$D$4:$D$1003),-('Gastos das Atividades'!D$1<='Fluxo de Gastos Gerais'!$E$4:$E$1003),-('Fluxo de Gastos Gerais'!$C$4:$C$1003)) -> 0 | E17: =SUMPRODUCT(-('Fluxo de Gastos Gerais'!$F$4:$F$1003='Gastos das Atividades'!$B17),-('Gastos das Atividades'!E$1>='Fluxo de Gastos Gerais'!$D$4:$D$1003),-('Gastos das Atividades'!E$1<='Fluxo de Gastos Gerais'!$E$4:$E$1003),-('Fluxo de Gastos Gerais'!$C$4:$C$1003)) -> 0 | F17: =SUMPRODUCT(-('Fluxo de Gastos Gerais'!$F$4:$F$1003='Gastos das Atividades'!$B17),-('Gastos das Atividades'!F$1>='Fluxo de Gastos Gerais'!$D$4:$D$1003),-('Gastos das Atividades'!F$1<='Fluxo de Gastos Gerais'!$E$4:$E$1003),-('Fluxo de Gastos Gerais'!$C$4:$C$1003)) -> 0 | G17: =SUMPRODUCT(-('Fluxo de Gastos Gerais'!$F$4:$F$1003='Gastos das Atividades'!$B17),-('Gastos das Atividades'!G$1>='Fluxo de Gastos Gerais'!$D$4:$D$1003),-('Gastos das Atividades'!G$1<='Fluxo de Gastos Gerais'!$E$4:$E$1003),-('Fluxo de Gastos Gerais'!$C$4:$C$1003)) -> 0 | H17: =SUMPRODUCT(-('Fluxo de Gastos Gerais'!$F$4:$F$1003='Gastos das Atividades'!$B17),-('Gastos das Atividades'!H$1>='Fluxo de Gastos Gerais'!$D$4:$D$1003),-('Gastos das Atividades'!H$1<='Fluxo de Gastos Gerais'!$E$4:$E$1003),-('Fluxo de Gastos Gerais'!$C$4:$C$1003)) -> 0 | I17: =SUMPRODUCT(-('Fluxo de Gastos Gerais'!$F$4:$F$1003='Gastos das Atividades'!$B17),-('Gastos das Atividades'!I$1>='Fluxo de Gastos Gerais'!$D$4:$D$1003),-('Gastos das Atividades'!I$1<='Fluxo de Gastos Gerais'!$E$4:$E$1003),-('Fluxo de Gastos Gerais'!$C$4:$C$1003)) -> 0 | J17: =SUMPRODUCT(-('Fluxo de Gastos Gerais'!$F$4:$F$1003='Gastos das Atividades'!$B17),-('Gastos das Atividades'!J$1>='Fluxo de Gastos Gerais'!$D$4:$D$1003),-('Gastos das Atividades'!J$1<='Fluxo de Gastos Gerais'!$E$4:$E$1003),-('Fluxo de Gastos Gerais'!$C$4:$C$1003)) -> 0 | ... AG17: =SUMPRODUCT(-('Fluxo de Gastos Gerais'!$F$4:$F$1003='Gastos das Atividades'!$B17),-('Gastos das Atividades'!AG$1>='Fluxo de Gastos Gerais'!$D$4:$D$1003),-('Gastos das Atividades'!AG$1<='Fluxo de Gastos Gerais'!$E$4:$E$1003),-('Fluxo de Gastos Gerais'!$C$4:$C$1003)) -> 0 | AH17: =SUM(C17:N17) -> 0 | AI17: =SUM(O17:Z17) -> 0 | AJ17: =SUM(AA17:AG17) -> 0 | AK17: =SUM(C17:AG17) -> 0 | AL17: =IF($AK$35=0,0,AH17/$AK$35) -> 0 | AM17: =IF($AK$35=0,0,AI17/$AK$35) -> 0 | AN17: =IF($AK$35=0,0,AJ17/$AK$35) -> 0 | AO17: =IF($AK$35=0,0,AK17/$AK$35) -> 0
A18: 14 | C18: =SUMPRODUCT(-('Fluxo de Gastos Gerais'!$F$4:$F$1003='Gastos das Atividades'!$B18),-('Gastos das Atividades'!C$1>='Fluxo de Gastos Gerais'!$D$4:$D$1003),-('Gastos das Atividades'!C$1<='Fluxo de Gastos Gerais'!$E$4:$E$1003),-('Fluxo de Gastos Gerais'!$C$4:$C$1003)) -> 0 | D18: =SUMPRODUCT(-('Fluxo de Gastos Gerais'!$F$4:$F$1003='Gastos das Atividades'!$B18),-('Gastos das Atividades'!D$1>='Fluxo de Gastos Gerais'!$D$4:$D$1003),-('Gastos das Atividades'!D$1<='Fluxo de Gastos Gerais'!$E$4:$E$1003),-('Fluxo de Gastos Gerais'!$C$4:$C$1003)) -> 0 | E18: =SUMPRODUCT(-('Fluxo de Gastos Gerais'!$F$4:$F$1003='Gastos das Atividades'!$B18),-('Gastos das Atividades'!E$1>='Fluxo de Gastos Gerais'!$D$4:$D$1003),-('Gastos das Atividades'!E$1<='Fluxo de Gastos Gerais'!$E$4:$E$1003),-('Fluxo de Gastos Gerais'!$C$4:$C$1003)) -> 0 | F18: =SUMPRODUCT(-('Fluxo de Gastos Gerais'!$F$4:$F$1003='Gastos das Atividades'!$B18),-('Gastos das Atividades'!F$1>='Fluxo de Gastos Gerais'!$D$4:$D$1003),-('Gastos das Atividades'!F$1<='Fluxo de Gastos Gerais'!$E$4:$E$1003),-('Fluxo de Gastos Gerais'!$C$4:$C$1003)) -> 0 | G18: =SUMPRODUCT(-('Fluxo de Gastos Gerais'!$F$4:$F$1003='Gastos das Atividades'!$B18),-('Gastos das Atividades'!G$1>='Fluxo de Gastos Gerais'!$D$4:$D$1003),-('Gastos das Atividades'!G$1<='Fluxo de Gastos Gerais'!$E$4:$E$1003),-('Fluxo de Gastos Gerais'!$C$4:$C$1003)) -> 0 | H18: =SUMPRODUCT(-('Fluxo de Gastos Gerais'!$F$4:$F$1003='Gastos das Atividades'!$B18),-('Gastos das Atividades'!H$1>='Fluxo de Gastos Gerais'!$D$4:$D$1003),-('Gastos das Atividades'!H$1<='Fluxo de Gastos Gerais'!$E$4:$E$1003),-('Fluxo de Gastos Gerais'!$C$4:$C$1003)) -> 0 | I18: =SUMPRODUCT(-('Fluxo de Gastos Gerais'!$F$4:$F$1003='Gastos das Atividades'!$B18),-('Gastos das Atividades'!I$1>='Fluxo de Gastos Gerais'!$D$4:$D$1003),-('Gastos das Atividades'!I$1<='Fluxo de Gastos Gerais'!$E$4:$E$1003),-('Fluxo de Gastos Gerais'!$C$4:$C$1003)) -> 0 | J18: =SUMPRODUCT(-('Fluxo de Gastos Gerais'!$F$4:$F$1003='Gastos das Atividades'!$B18),-('Gastos das Atividades'!J$1>='Fluxo de Gastos Gerais'!$D$4:$D$1003),-('Gastos das Atividades'!J$1<='Fluxo de Gastos Gerais'!$E$4:$E$1003),-('Fluxo de Gastos Gerais'!$C$4:$C$1003)) -> 0 | ... AG18: =SUMPRODUCT(-('Fluxo de Gastos Gerais'!$F$4:$F$1003='Gastos das Atividades'!$B18),-('Gastos das Atividades'!AG$1>='Fluxo de Gastos Gerais'!$D$4:$D$1003),-('Gastos das Atividades'!AG$1<='Fluxo de Gastos Gerais'!$E$4:$E$1003),-('Fluxo de Gastos Gerais'!$C$4:$C$1003)) -> 0 | AH18: =SUM(C18:N18) -> 0 | AI18: =SUM(O18:Z18) -> 0 | AJ18: =SUM(AA18:AG18) -> 0 | AK18: =SUM(C18:AG18) -> 0 | AL18: =IF($AK$35=0,0,AH18/$AK$35) -> 0 | AM18: =IF($AK$35=0,0,AI18/$AK$35) -> 0 | AN18: =IF($AK$35=0,0,AJ18/$AK$35) -> 0 | AO18: =IF($AK$35=0,0,AK18/$AK$35) -> 0
A19: 15 | C19: =SUMPRODUCT(-('Fluxo de Gastos Gerais'!$F$4:$F$1003='Gastos das Atividades'!$B19),-('Gastos das Atividades'!C$1>='Fluxo de Gastos Gerais'!$D$4:$D$1003),-('Gastos das Atividades'!C$1<='Fluxo de Gastos Gerais'!$E$4:$E$1003),-('Fluxo de Gastos Gerais'!$C$4:$C$1003)) -> 0 | D19: =SUMPRODUCT(-('Fluxo de Gastos Gerais'!$F$4:$F$1003='Gastos das Atividades'!$B19),-('Gastos das Atividades'!D$1>='Fluxo de Gastos Gerais'!$D$4:$D$1003),-('Gastos das Atividades'!D$1<='Fluxo de Gastos Gerais'!$E$4:$E$1003),-('Fluxo de Gastos Gerais'!$C$4:$C$1003)) -> 0 | E19: =SUMPRODUCT(-('Fluxo de Gastos Gerais'!$F$4:$F$1003='Gastos das Atividades'!$B19),-('Gastos das Atividades'!E$1>='Fluxo de Gastos Gerais'!$D$4:$D$1003),-('Gastos das Atividades'!E$1<='Fluxo de Gastos Gerais'!$E$4:$E$1003),-('Fluxo de Gastos Gerais'!$C$4:$C$1003)) -> 0 | F19: =SUMPRODUCT(-('Fluxo de Gastos Gerais'!$F$4:$F$1003='Gastos das Atividades'!$B19),-('Gastos das Atividades'!F$1>='Fluxo de Gastos Gerais'!$D$4:$D$1003),-('Gastos das Atividades'!F$1<='Fluxo de Gastos Gerais'!$E$4:$E$1003),-('Fluxo de Gastos Gerais'!$C$4:$C$1003)) -> 0 | G19: =SUMPRODUCT(-('Fluxo de Gastos Gerais'!$F$4:$F$1003='Gastos das Atividades'!$B19),-('Gastos das Atividades'!G$1>='Fluxo de Gastos Gerais'!$D$4:$D$1003),-('Gastos das Atividades'!G$1<='Fluxo de Gastos Gerais'!$E$4:$E$1003),-('Fluxo de Gastos Gerais'!$C$4:$C$1003)) -> 0 | H19: =SUMPRODUCT(-('Fluxo de Gastos Gerais'!$F$4:$F$1003='Gastos das Atividades'!$B19),-('Gastos das Atividades'!H$1>='Fluxo de Gastos Gerais'!$D$4:$D$1003),-('Gastos das Atividades'!H$1<='Fluxo de Gastos Gerais'!$E$4:$E$1003),-('Fluxo de Gastos Gerais'!$C$4:$C$1003)) -> 0 | I19: =SUMPRODUCT(-('Fluxo de Gastos Gerais'!$F$4:$F$1003='Gastos das Atividades'!$B19),-('Gastos das Atividades'!I$1>='Fluxo de Gastos Gerais'!$D$4:$D$1003),-('Gastos das Atividades'!I$1<='Fluxo de Gastos Gerais'!$E$4:$E$1003),-('Fluxo de Gastos Gerais'!$C$4:$C$1003)) -> 0 | J19: =SUMPRODUCT(-('Fluxo de Gastos Gerais'!$F$4:$F$1003='Gastos das Atividades'!$B19),-('Gastos das Atividades'!J$1>='Fluxo de Gastos Gerais'!$D$4:$D$1003),-('Gastos das Atividades'!J$1<='Fluxo de Gastos Gerais'!$E$4:$E$1003),-('Fluxo de Gastos Gerais'!$C$4:$C$1003)) -> 0 | ... AG19: =SUMPRODUCT(-('Fluxo de Gastos Gerais'!$F$4:$F$1003='Gastos das Atividades'!$B19),-('Gastos das Atividades'!AG$1>='Fluxo de Gastos Gerais'!$D$4:$D$1003),-('Gastos das Atividades'!AG$1<='Fluxo de Gastos Gerais'!$E$4:$E$1003),-('Fluxo de Gastos Gerais'!$C$4:$C$1003)) -> 0 | AH19: =SUM(C19:N19) -> 0 | AI19: =SUM(O19:Z19) -> 0 | AJ19: =SUM(AA19:AG19) -> 0 | AK19: =SUM(C19:AG19) -> 0 | AL19: =IF($AK$35=0,0,AH19/$AK$35) -> 0 | AM19: =IF($AK$35=0,0,AI19/$AK$35) -> 0 | AN19: =IF($AK$35=0,0,AJ19/$AK$35) -> 0 | AO19: =IF($AK$35=0,0,AK19/$AK$35) -> 0
A20: 16 | C20: =SUMPRODUCT(-('Fluxo de Gastos Gerais'!$F$4:$F$1003='Gastos das Atividades'!$B20),-('Gastos das Atividades'!C$1>='Fluxo de Gastos Gerais'!$D$4:$D$1003),-('Gastos das Atividades'!C$1<='Fluxo de Gastos Gerais'!$E$4:$E$1003),-('Fluxo de Gastos Gerais'!$C$4:$C$1003)) -> 0 | D20: =SUMPRODUCT(-('Fluxo de Gastos Gerais'!$F$4:$F$1003='Gastos das Atividades'!$B20),-('Gastos das Atividades'!D$1>='Fluxo de Gastos Gerais'!$D$4:$D$1003),-('Gastos das Atividades'!D$1<='Fluxo de Gastos Gerais'!$E$4:$E$1003),-('Fluxo de Gastos Gerais'!$C$4:$C$1003)) -> 0 | E20: =SUMPRODUCT(-('Fluxo de Gastos Gerais'!$F$4:$F$1003='Gastos das Atividades'!$B20),-('Gastos das Atividades'!E$1>='Fluxo de Gastos Gerais'!$D$4:$D$1003),-('Gastos das Atividades'!E$1<='Fluxo de Gastos Gerais'!$E$4:$E$1003),-('Fluxo de Gastos Gerais'!$C$4:$C$1003)) -> 0 | F20: =SUMPRODUCT(-('Fluxo de Gastos Gerais'!$F$4:$F$1003='Gastos das Atividades'!$B20),-('Gastos das Atividades'!F$1>='Fluxo de Gastos Gerais'!$D$4:$D$1003),-('Gastos das Atividades'!F$1<='Fluxo de Gastos Gerais'!$E$4:$E$1003),-('Fluxo de Gastos Gerais'!$C$4:$C$1003)) -> 0 | G20: =SUMPRODUCT(-('Fluxo de Gastos Gerais'!$F$4:$F$1003='Gastos das Atividades'!$B20),-('Gastos das Atividades'!G$1>='Fluxo de Gastos Gerais'!$D$4:$D$1003),-('Gastos das Atividades'!G$1<='Fluxo de Gastos Gerais'!$E$4:$E$1003),-('Fluxo de Gastos Gerais'!$C$4:$C$1003)) -> 0 | H20: =SUMPRODUCT(-('Fluxo de Gastos Gerais'!$F$4:$F$1003='Gastos das Atividades'!$B20),-('Gastos das Atividades'!H$1>='Fluxo de Gastos Gerais'!$D$4:$D$1003),-('Gastos das Atividades'!H$1<='Fluxo de Gastos Gerais'!$E$4:$E$1003),-('Fluxo de Gastos Gerais'!$C$4:$C$1003)) -> 0 | I20: =SUMPRODUCT(-('Fluxo de Gastos Gerais'!$F$4:$F$1003='Gastos das Atividades'!$B20),-('Gastos das Atividades'!I$1>='Fluxo de Gastos Gerais'!$D$4:$D$1003),-('Gastos das Atividades'!I$1<='Fluxo de Gastos Gerais'!$E$4:$E$1003),-('Fluxo de Gastos Gerais'!$C$4:$C$1003)) -> 0 | J20: =SUMPRODUCT(-('Fluxo de Gastos Gerais'!$F$4:$F$1003='Gastos das Atividades'!$B20),-('Gastos das Atividades'!J$1>='Fluxo de Gastos Gerais'!$D$4:$D$1003),-('Gastos das Atividades'!J$1<='Fluxo de Gastos Gerais'!$E$4:$E$1003),-('Fluxo de Gastos Gerais'!$C$4:$C$1003)) -> 0 | ... AG20: =SUMPRODUCT(-('Fluxo de Gastos Gerais'!$F$4:$F$1003='Gastos das Atividades'!$B20),-('Gastos das Atividades'!AG$1>='Fluxo de Gastos Gerais'!$D$4:$D$1003),-('Gastos das Atividades'!AG$1<='Fluxo de Gastos Gerais'!$E$4:$E$1003),-('Fluxo de Gastos Gerais'!$C$4:$C$1003)) -> 0 | AH20: =SUM(C20:N20) -> 0 | AI20: =SUM(O20:Z20) -> 0 | AJ20: =SUM(AA20:AG20) -> 0 | AK20: =SUM(C20:AG20) -> 0 | AL20: =IF($AK$35=0,0,AH20/$AK$35) -> 0 | AM20: =IF($AK$35=0,0,AI20/$AK$35) -> 0 | AN20: =IF($AK$35=0,0,AJ20/$AK$35) -> 0 | AO20: =IF($AK$35=0,0,AK20/$AK$35) -> 0
... A34: 30 | C34: =SUMPRODUCT(-('Fluxo de Gastos Gerais'!$F$4:$F$1003='Gastos das Atividades'!$B34),-('Gastos das Atividades'!C$1>='Fluxo de Gastos Gerais'!$D$4:$D$1003),-('Gastos das Atividades'!C$1<='Fluxo de Gastos Gerais'!$E$4:$E$1003),-('Fluxo de Gastos Gerais'!$C$4:$C$1003)) -> 0 | D34: =SUMPRODUCT(-('Fluxo de Gastos Gerais'!$F$4:$F$1003='Gastos das Atividades'!$B34),-('Gastos das Atividades'!D$1>='Fluxo de Gastos Gerais'!$D$4:$D$1003),-('Gastos das Atividades'!D$1<='Fluxo de Gastos Gerais'!$E$4:$E$1003),-('Fluxo de Gastos Gerais'!$C$4:$C$1003)) -> 0 | E34: =SUMPRODUCT(-('Fluxo de Gastos Gerais'!$F$4:$F$1003='Gastos das Atividades'!$B34),-('Gastos das Atividades'!E$1>='Fluxo de Gastos Gerais'!$D$4:$D$1003),-('Gastos das Atividades'!E$1<='Fluxo de Gastos Gerais'!$E$4:$E$1003),-('Fluxo de Gastos Gerais'!$C$4:$C$1003)) -> 0 | F34: =SUMPRODUCT(-('Fluxo de Gastos Gerais'!$F$4:$F$1003='Gastos das Atividades'!$B34),-('Gastos das Atividades'!F$1>='Fluxo de Gastos Gerais'!$D$4:$D$1003),-('Gastos das Atividades'!F$1<='Fluxo de Gastos Gerais'!$E$4:$E$1003),-('Fluxo de Gastos Gerais'!$C$4:$C$1003)) -> 0 | G34: =SUMPRODUCT(-('Fluxo de Gastos Gerais'!$F$4:$F$1003='Gastos das Atividades'!$B34),-('Gastos das Atividades'!G$1>='Fluxo de Gastos Gerais'!$D$4:$D$1003),-('Gastos das Atividades'!G$1<='Fluxo de Gastos Gerais'!$E$4:$E$1003),-('Fluxo de Gastos Gerais'!$C$4:$C$1003)) -> 0 | H34: =SUMPRODUCT(-('Fluxo de Gastos Gerais'!$F$4:$F$1003='Gastos das Atividades'!$B34),-('Gastos das Atividades'!H$1>='Fluxo de Gastos Gerais'!$D$4:$D$1003),-('Gastos das Atividades'!H$1<='Fluxo de Gastos Gerais'!$E$4:$E$1003),-('Fluxo de Gastos Gerais'!$C$4:$C$1003)) -> 0 | I34: =SUMPRODUCT(-('Fluxo de Gastos Gerais'!$F$4:$F$1003='Gastos das Atividades'!$B34),-('Gastos das Atividades'!I$1>='Fluxo de Gastos Gerais'!$D$4:$D$1003),-('Gastos das Atividades'!I$1<='Fluxo de Gastos Gerais'!$E$4:$E$1003),-('Fluxo de Gastos Gerais'!$C$4:$C$1003)) -> 0 | J34: =SUMPRODUCT(-('Fluxo de Gastos Gerais'!$F$4:$F$1003='Gastos das Atividades'!$B34),-('Gastos das Atividades'!J$1>='Fluxo de Gastos Gerais'!$D$4:$D$1003),-('Gastos das Atividades'!J$1<='Fluxo de Gastos Gerais'!$E$4:$E$1003),-('Fluxo de Gastos Gerais'!$C$4:$C$1003)) -> 0 | ... AG34: =SUMPRODUCT(-('Fluxo de Gastos Gerais'!$F$4:$F$1003='Gastos das Atividades'!$B34),-('Gastos das Atividades'!AG$1>='Fluxo de Gastos Gerais'!$D$4:$D$1003),-('Gastos das Atividades'!AG$1<='Fluxo de Gastos Gerais'!$E$4:$E$1003),-('Fluxo de Gastos Gerais'!$C$4:$C$1003)) -> 0 | AH34: =SUM(C34:N34) -> 0 | AI34: =SUM(O34:Z34) -> 0 | AJ34: =SUM(AA34:AG34) -> 0 | AK34: =SUM(C34:AG34) -> 0 | AL34: =IF($AK$35=0,0,AH34/$AK$35) -> 0 | AM34: =IF($AK$35=0,0,AI34/$AK$35) -> 0 | AN34: =IF($AK$35=0,0,AJ34/$AK$35) -> 0 | AO34: =IF($AK$35=0,0,AK34/$AK$35) -> 0
B35: Total | C35: =SUBTOTAL(109,C5:C34) -> 205890.34 | D35: =SUBTOTAL(109,D5:D34) -> 177977.78 | E35: =SUBTOTAL(109,E5:E34) -> 198971.11 | F35: =SUBTOTAL(109,F5:F34) -> 100637.78 | G35: =SUBTOTAL(109,G5:G34) -> 100637.78 | H35: =SUBTOTAL(109,H5:H34) -> 70637.778 | I35: =SUBTOTAL(109,I5:I34) -> 70637.778 | J35: =SUBTOTAL(109,J5:J34) -> 70637.778 | ... AG35: =SUBTOTAL(109,AG5:AG34) -> 0 | AH35: =SUM(AH5:AH34) -> 1215245.9 | AI35: =SUM(AI5:AI34) -> 828899.24 | AJ35: =SUM(AJ5:AJ34) -> 0 | AK35: =SUM(AK5:AK34) -> 2044145.1 | AL35: =SUM(AL5:AL34) -> 0.59450079 | AM35: =SUM(AM5:AM34) -> 0.40549921 | AN35: =SUM(AN5:AN34) -> 0 | AO35: =IF($AK$35=0,0,AK35/$AK$35) -> 1
B38: Destinação dos Gastos do Termo de Parceria
B39: Destinação | AH39: Categoria | AI39: Valor | AJ39: %
B40: Área Meio | AH40: Pessoal | AI40: ='Gastos com Pessoal'!H129 -> 691889.37 | AJ40: =IF($AI$46=0,0,AI40/$AI$46) -> 0.17875931
B41: Área Meio | AH41: Gerais | AI41: =AK5 -> 47245.9 | AJ41: =IF($AI$46=0,0,AI41/$AI$46) -> 0.01220664
B42: Área Meio | AH42: Subtotal | AI42: =SUBTOTAL(9,AI40:AI41) -> 739135.27 | AJ42: =IF($AI$46=0,0,AI42/$AI$46) -> 0.19096595
B43: Área Fim | AH43: Pessoal | AI43: ='Gastos com Pessoal'!H130 -> 1134473.7 | AJ43: =IF($AI$46=0,0,AI43/$AI$46) -> 0.29310717
B44: Área Fim | AH44: Gerais | AI44: =AK35-AK5 -> 1996899.2 | AJ44: =IF($AI$46=0,0,AI44/$AI$46) -> 0.51592688
B45: Área Fim | AH45: Subtotal | AI45: =SUBTOTAL(9,AI43:AI44) -> 3131373 | AJ45: =IF($AI$46=0,0,AI45/$AI$46) -> 0.80903405
B46: Total: | AI46: =SUBTOTAL(9,AI40:AI45) -> 3870508.3 | AJ46: =IF($AI$46=0,0,AI46/$AI$46) -> 1

Sheet Analítico
C1: 1 | D1: 2 | E1: 3 | F1: 4 | G1: 5 | H1: 6 | I1: 7 | J1: 8 | K1: 9 | L1: 10 | M1: 11 | N1: 12 | O1: 13 | P1: 14 | Q1: 15 | R1: 16 | S1: 17 | T1: 18 | U1: 19 | V1: 20 | W1: 21 | X1: 22 | Y1: 23 | Z1: 24 | AA1: 25 | AB1: 26 | AC1: 27 | AD1: 28 | AE1: 29 | AF1: 30 | AG1: 31 | AH1: 32 | AI1: 33 | AJ1: 34 | AK1: 35 | AL1: 36
C2: =Capa!A1 -> Termo de Parceria celebrado entre o Instituto Estadual do Patrimônio Histórico e Artístico de Minas Gerais - IEPHA/MG e a Associação Pró-Cultura e Promoção das Artes - APPA
C3: Tabela 3 - Previsão Analítica de Receitas e Gastos Mensais em Regime de Competência | O3: Tabela 3 - Previsão Analítica de Receitas e Gastos Mensais em Regime de Competência | AA3: Tabela 3 - Previsão Analítica de Receitas e Gastos Mensais em Regime de Competência
C4: Mês 1 | D4: Mês 2 | E4: Mês 3 | F4: Mês 4 | G4: Mês 5 | H4: Mês 6 | I4: Mês 7 | J4: Mês 8 | K4: Mês 9 | L4: Mês 10 | M4: Mês 11 | N4: Mês 12 | O4: Mês 13 | P4: Mês 14 | Q4: Mês 15 | R4: Mês 16 | S4: Mês 17 | T4: Mês 18 | U4: Mês 19 | V4: Mês 20 | W4: Mês 21 | X4: Mês 22 | Y4: Mês 23 | Z4: Mês 24 | AA4: Mês 25 | AB4: Mês 26 | AC4: Mês 27 | AD4: Mês 28 | AE4: Mês 29 | AF4: Mês 30 | AG4: Mês 31 | AH4: Mês 32 | AI4: Mês 33 | AJ4: Mês 34 | AK4: Mês 35 | AL4: Mês 36 | AM4: Total | AN4: % do Total
A5: SR | B5: Saldo Remanescente | C5: 0 | AM5: =C5 -> 0 | AN5: =IF($AM$14=0,0,AM5/$AM$14) -> 0
A7: 1 | B7: Entrada de Recursos
A8: 1.1 | B8: Receitas
A9: 1.1.1 | B9: Repasses do Termo de Parceria | C9: =SUM(C133:F133) -> 957808.4 | D9: 0 | E9: 0 | F9: 0 | G9: =SUM(G133:I133) -> 473861.13 | H9: 0 | I9: 0 | J9: =SUM(J133:L133) -> 422750.02 | K9: 0 | L9: 0 | M9: =2134311.11-C9-G9-J9 -> 279891.56 | N9: 0 | O9: =1704691.09-P9-S9-V9-Y9 -> 131029.23 | P9: =SUM(P133:R133) -> 469606.02 | Q9: 0 | R9: 0 | S9: =SUM(S133:U133) -> 437770.94 | T9: 0 | U9: 0 | V9: =SUM(V133:X133) -> 416659.83 | W9: 0 | X9: 0 | Y9: =SUM(Y133:Z133) -> 249625.07 | Z9: 0 | AA9: 0 | AB9: 0 | AC9: 0 | AD9: 0 | AE9: 0 | AF9: 0 | AG9: 0 | AH9: 0 | AI9: 0 | AJ9: 0 | AK9: 0 | AL9: 0 | AM9: =SUM(C9:AL9) -> 3839002.2 | AN9: =IF($AM$14=0,0,AM9/$AM$14) -> 1
A10: 1.1.2 | B10: Receita Arrecadada em Função do TP | C10: 0 | D10: 0 | E10: 0 | F10: 0 | G10: 0 | H10: 0 | I10: 0 | J10: 0 | K10: 0 | L10: 0 | M10: 0 | N10: 0 | O10: 0 | P10: 0 | Q10: 0 | R10: 0 | S10: 0 | T10: 0 | U10: 0 | V10: 0 | W10: 0 | X10: 0 | Y10: 0 | Z10: 0 | AA10: 0 | AB10: 0 | AC10: 0 | AD10: 0 | AE10: 0 | AF10: 0 | AG10: 0 | AH10: 0 | AI10: 0 | AJ10: 0 | AK10: 0 | AL10: 0 | AM10: =SUM(C10:AL10) -> 0 | AN10: =IF($AM$14=0,0,AM10/$AM$14) -> 0
A11: 1.1.3 | B11: Outras Receitas | C11: 0 | D11: 0 | E11: 0 | F11: 0 | G11: 0 | H11: 0 | I11: 0 | J11: 0 | K11: 0 | L11: 0 | M11: 0 | N11: 0 | O11: 0 | P11: 0 | Q11: 0 | R11: 0 | S11: 0 | T11: 0 | U11: 0 | V11: 0 | W11: 0 | X11: 0 | Y11: 0 | Z11: 0 | AA11: 0 | AB11: 0 | AC11: 0 | AD11: 0 | AE11: 0 | AF11: 0 | AG11: 0 | AH11: 0 | AI11: 0 | AJ11: 0 | AK11: 0 | AL11: 0 | AM11: =SUM(C11:AL11) -> 0 | AN11: =IF($AM$14=0,0,AM11/$AM$14) -> 0
A12: 1.2 | B12: Rendimentos de Aplicações Fin. | C12: 0 | D12: 0 | E12: 0 | F12: 0 | G12: 0 | H12: 0 | I12: 0 | J12: 0 | K12: 0 | L12: 0 | M12: 0 | N12: 0 | O12: 0 | P12: 0 | Q12: 0 | R12: 0 | S12: 0 | T12: 0 | U12: 0 | V12: 0 | W12: 0 | X12: 0 | Y12: 0 | Z12: 0 | AA12: 0 | AB12: 0 | AC12: 0 | AD12: 0 | AE12: 0 | AF12: 0 | AG12: 0 | AH12: 0 | AI12: 0 | AJ12: 0 | AK12: 0 | AL12: 0 | AM12: =SUM(C12:AL12) -> 0 | AN12: =IF($AM$14=0,0,AM12/$AM$14) -> 0
